BEGIN:VCALENDAR
VERSION:2.0
PRODID:-//ChamberMaster//Event Calendar 2.0//EN
METHOD:PUBLISH
X-PUBLISHED-TTL:P3D
REFRESH-INTERVAL:P3D
CALSCALE:GREGORIAN
BEGIN:VEVENT
DTSTART:20230809T150000Z
DTEND:20230810T000000Z
X-MICROSOFT-CDO-ALLDAYEVENT:FALSE
SUMMARY:2023 Chamber Annual Golf Tournament
DESCRIPTION:Happy Gilmore says\, "Go to your hole!"  Come join us for the Chamber's Annual Golf Tournament. \n\nYour registration fee includes:  Golf\, cart\, box lunch\, snacks on the course\, games of chance\, contests and prizes\, followed by a delicious dinner.
X-ALT-DESC;FMTTYPE=text/html:<strong>Happy Gilmore says\, &quot\;Go to your hole!&quot\;&nbsp\; Come join us for the Chamber&#39\;s Annual Golf Tournament.&nbsp\;</strong><br />\nYour registration fee includes:&nbsp\; Golf\, cart\, box lunch\, snacks on the course\, games of chance\, contests and prizes\, followed by a delicious dinner.
LOCATION:Perth Golf Course 141 Peter Street Perth\, ON
UID:e.3151.229
SEQUENCE:3
DTSTAMP:20260424T015410Z
URL:https://members.perthchamber.com/events/details/2023-chamber-annual-golf-tournament-229
END:VEVENT

END:VCALENDAR
