BEGIN:VCALENDAR
VERSION:2.0
PRODID:-//ChamberMaster//Event Calendar 2.0//EN
METHOD:PUBLISH
X-PUBLISHED-TTL:P3D
REFRESH-INTERVAL:P3D
CALSCALE:GREGORIAN
BEGIN:VEVENT
DTSTART:20210127T150000Z
DTEND:20210127T160000Z
X-MICROSOFT-CDO-ALLDAYEVENT:FALSE
SUMMARY:Adding Movement to Social Media with Videos from Canva – 3 Part Series 3 of 3
DESCRIPTION:Hosted by the Small Business Advisory Centre and the Perth and District Chamber of Commerce\n\nDescription: Video is important to your brand's social media! But video doesn't have to be complicated!\n\nThis webinar will guide participants through the creation of custom graphics and images that use animated elements/gifs\, and stock video footage for use on Facebook\, Instagram\, and Stories. Participants will learn how to efficiently search for videos   and how to customize images through frames and cropping. This webinar is sure to improve your efficiency on this impressive online graphic design program   and help your business stand out on social media.
X-ALT-DESC;FMTTYPE=text/html:<p style="margin: 0px\; padding: 15px 15px 8px\; box-sizing: border-box\; font-family: &quot\;PT Sans&quot\;\, sans-serif\; color: rgb(0\, 0\, 0)\; font-size: 1.8rem\; text-align: justify\;"><span style="font-size:14px\;">Hosted by the Small Business Advisory Centre and the Perth and District Chamber of Commerce<br />\n<strong style="box-sizing: border-box\;">Description</strong>:&nbsp\;Video is important to your brand&rsquo\;s social media! But video doesn&rsquo\;t have to be complicated!<br style="box-sizing: border-box\;" />\nThis webinar will guide participants through the creation of custom graphics and images that use animated elements/gifs\, and stock video footage for use on Facebook\, Instagram\, and Stories. Participants will learn how to efficiently search for videos &ndash\; and how to customize images through frames and cropping. This webinar is sure to improve your efficiency on this impressive online graphic design program &ndash\; and help your business stand out on social media.</span></p>\n
LOCATION:Zoom https://us02web.zoom.us/meeting/register/tZcpc-GsrzMvHdOtLDPCWQ6uG6w9zhS4b6Ba
UID:e.3151.129
SEQUENCE:3
DTSTAMP:20260425T180907Z
URL:https://members.perthchamber.com/events/details/adding-movement-to-social-media-with-videos-from-canva-3-part-series-3-of-3-129
END:VEVENT

END:VCALENDAR
