BEGIN:VCALENDAR
VERSION:2.0
PRODID:-//ChamberMaster//Event Calendar 2.0//EN
METHOD:PUBLISH
X-PUBLISHED-TTL:P3D
REFRESH-INTERVAL:P3D
CALSCALE:GREGORIAN
BEGIN:VEVENT
DTSTART:20230614T210000Z
DTEND:20230614T230000Z
X-MICROSOFT-CDO-ALLDAYEVENT:FALSE
SUMMARY:After Hours
DESCRIPTION:After Hours Networking Event\n\nCome and experience the fantastic new restaurant - Billings & Conpany\n\nThe event is co-sponsored by the restaurant and Kelly DeJong of Sun Life Financial.
X-ALT-DESC;FMTTYPE=text/html:<b>After Hours Networking Event</b><br />\nCome and experience the fantastic new restaurant - Billings &amp\; Conpany<br />\nThe event is co-sponsored by the restaurant and Kelly DeJong of Sun Life Financial.
LOCATION:43 Gore Street Perth\, ON K7H 1H4
UID:e.3151.225
SEQUENCE:3
DTSTAMP:20260424T054834Z
URL:https://members.perthchamber.com/events/details/after-hours-225
END:VEVENT

END:VCALENDAR
