BEGIN:VCALENDAR
VERSION:2.0
PRODID:-//ChamberMaster//Event Calendar 2.0//EN
METHOD:PUBLISH
X-PUBLISHED-TTL:P3D
REFRESH-INTERVAL:P3D
CALSCALE:GREGORIAN
BEGIN:VEVENT
DTSTART:20240327T153000Z
DTEND:20240327T173000Z
X-MICROSOFT-CDO-ALLDAYEVENT:FALSE
SUMMARY:AGM at The Locks
DESCRIPTION:AGM LUNCHEON - Registration CLOSED\n\nWHEN : 11:30am - 1:30pm Wednesday\, March 27\, 2024\n\nWHERE: The Locks Restaurant\, 82 Peter St\, Perth\n\nSPECIAL GUEST SPEAKER: Toby Shannan\n\nHOW MUCH: $40 +hst/ members\, $55 +hst/future members\n\nWHAT'S INCLUDED: A set menu with two options will be provided by the restaurant\, vegetarian option available as well. Drinks not included.\n\nMenu options below:\n\nAll sandwiches are served with choice of fries or garden salad.\n\nChicken Parmesan\n\nCrispy Ontario chicken breast\, roasted tomato sauce\, mozzarella\, on a soft roll\n\n\n\nBeef Dip\n\nShaved roast beef\, caramelized onion\, horseradish aioli\, on ciabatta\n\n\n\nTuscan Vegetarian\n\nGrilled eggplant\, roasted red pepper\, artichoke hearts\, tomato\, arugula\, basil pesto\, on ciabatta\n\n\n\nPlease register using the link on the right! Looking forward to seeing you there!
X-ALT-DESC;FMTTYPE=text/html:<span style="font-family:arial\;"><span style="font-size:24px\;"><strong><span style="font-size:26px\;"><span style="color:233746\;">AGM LUNCHEON - Registration CLOSED</span></span><br />\n<span style="color:#228747\;"><span style="font-size:20px\;">WHEN : </span></span></strong><span style="color:#228747\;"><span style="font-size:20px\;">11:30am - 1:30pm Wednesday\, March 27\, 2024</span><br />\n<strong><span style="font-size:20px\;">WHERE:</span></strong><span style="font-size:20px\;"> The Locks Restaurant\, 82 Peter St\, Perth</span></span></span><br />\n<strong style="color: rgb(34\, 135\, 71)\; font-size: 24px\;"><span style="font-size: 20px\;">SPECIAL GUEST SPEAKER:&nbsp\;</span></strong><span style="color: rgb(34\, 135\, 71)\; font-size: 20px\;">Toby Shannan</span><br />\n<span style="font-size:24px\;"><span style="color:#228747\;"><strong><span style="font-size:20px\;">HOW MUCH: </span></strong><span style="font-size:20px\;">$40 +hst/ members\, $55 +hst/future members</span><br />\n<strong><span style="font-size:20px\;">WHAT&#39\;S INCLUDED: </span></strong><span style="font-size:20px\;">A set menu with two options will be provided by the restaurant\, vegetarian option available as well. <u>Drinks not included.</u><br />\nMenu options below:</span></span></span><br />\n<span style="color:#233746\;"><span style="font-size:20px\;">All sandwiches are served with choice of fries or garden salad.<br />\nChicken Parmesan</span></span><br />\n<span style="color:#228747\;"><span style="font-size:20px\;">Crispy Ontario chicken breast\, roasted tomato sauce\, mozzarella\, on a soft roll</span></span><br />\n<br />\n<span style="color:#233746\;"><span style="font-size:20px\;">Beef Dip</span></span><br />\n<span style="color:#228747\;"><span style="font-size:20px\;">Shaved roast beef\, caramelized onion\, horseradish aioli\, on ciabatta</span></span><br />\n<br />\n<span style="color:#233746\;"><span style="font-size:20px\;">Tuscan Vegetarian</span></span><br />\n<span style="color:#228747\;"><span style="font-size:20px\;">Grilled eggplant\, roasted red pepper\, artichoke hearts\, tomato\, arugula\, basil pesto\, on ciabatta<br />\n<br />\nPlease register using the link on the right! Looking forward to seeing you there!</span></span></span>
LOCATION:The Locks Perth 82 Peter St Perth\, ON
UID:e.3151.255
SEQUENCE:3
DTSTAMP:20260423T150742Z
URL:https://members.perthchamber.com/events/details/agm-at-the-locks-255
END:VEVENT

END:VCALENDAR
