BEGIN:VCALENDAR
VERSION:2.0
PRODID:-//ChamberMaster//Event Calendar 2.0//EN
METHOD:PUBLISH
X-PUBLISHED-TTL:P3D
REFRESH-INTERVAL:P3D
CALSCALE:GREGORIAN
BEGIN:VEVENT
DTSTART:20200429T160000Z
DTEND:20200429T170000Z
X-MICROSOFT-CDO-ALLDAYEVENT:FALSE
SUMMARY:Annual General Meeting (AGM)-online through zoom
DESCRIPTION:The Perth & District Chamber of Commerce holds elections for the Board of Directors during its Annual General Meeting\, held each year.
X-ALT-DESC;FMTTYPE=text/html:<div style="margin: 0px 0px 25px\; padding: 0px\; text-align: justify\; font-family: Verdana\, sans-serif\; font-size: 18px\;"><span style="font-size:12px\;">The Perth &amp\; District Chamber of Commerce holds elections for the Board of Directors during its Annual General Meeting\, held each year.&nbsp\;</span></div>\n\n<div style="margin: 0px 0px 30px\; padding: 0px\; font-family: Verdana\, sans-serif\; line-height: 1.25\; text-transform: uppercase\; font-weight: bold\; color: rgb(0\, 124\, 132)\; font-size: 2.4rem\;">&nbsp\;</div>\n
LOCATION:Zoom Meeting Register in advance for this meeting: Topic: Chamber AGM Time: Mar 31\, 2021 10:00 AM Eastern Time (US and Canada) Join Zoom Meeting https://us02web.zoom.us/j/84465522379 Meeting ID: 844 6552 2379 One tap mobile +17789072071\,\,84465522379# Canada +12042727920\,\,84465522379# Canada Dial by your location +1 778 907 2071 Canada +1 204 272 7920 Canada +1 438 809 7799 Canada +1 587 328 1099 Canada +1 647 374 4685 Canada +1 647 558 0588 Canada Meeting ID: 844 6552 2379 Find your local number: https://us02web.zoom.us/u/kltwKgahr
UID:e.3151.13
SEQUENCE:3
DTSTAMP:20260423T172454Z
URL:https://members.perthchamber.com/events/details/annual-general-meeting-agm-online-through-zoom-13
END:VEVENT

END:VCALENDAR
