BEGIN:VCALENDAR
VERSION:2.0
PRODID:-//ChamberMaster//Event Calendar 2.0//EN
METHOD:PUBLISH
X-PUBLISHED-TTL:P3D
REFRESH-INTERVAL:P3D
CALSCALE:GREGORIAN
BEGIN:VEVENT
DTSTART:20200602T160000Z
DTEND:20200602T170000Z
X-MICROSOFT-CDO-ALLDAYEVENT:FALSE
SUMMARY:Board of Directors Meeting-June
DESCRIPTION:Board of Directors Meeting
X-ALT-DESC;FMTTYPE=text/html:Board of Directors Meeting
LOCATION:Zoom Meeting Request a ZOOM Invite
UID:e.3151.97
SEQUENCE:3
DTSTAMP:20260423T154441Z
URL:https://members.perthchamber.com/events/details/board-of-directors-meeting-june-97
END:VEVENT

END:VCALENDAR
