BEGIN:VCALENDAR
VERSION:2.0
PRODID:-//ChamberMaster//Event Calendar 2.0//EN
METHOD:PUBLISH
X-PUBLISHED-TTL:P3D
REFRESH-INTERVAL:P3D
CALSCALE:GREGORIAN
BEGIN:VEVENT
DTSTART:20200505T160000Z
DTEND:20200505T170000Z
X-MICROSOFT-CDO-ALLDAYEVENT:FALSE
SUMMARY:Board of Directors Meeting-May
DESCRIPTION:Monthly Board of Director Meeting
X-ALT-DESC;FMTTYPE=text/html:Monthly Board of Director Meeting
LOCATION:Zoom Meeting Request Invite
UID:e.3151.96
SEQUENCE:3
DTSTAMP:20260423T135333Z
URL:https://members.perthchamber.com/events/details/board-of-directors-meeting-may-96
END:VEVENT

END:VCALENDAR
