BEGIN:VCALENDAR
VERSION:2.0
PRODID:-//ChamberMaster//Event Calendar 2.0//EN
METHOD:PUBLISH
X-PUBLISHED-TTL:P3D
REFRESH-INTERVAL:P3D
CALSCALE:GREGORIAN
BEGIN:VEVENT
DTSTART:20250603T133000Z
DTEND:20250603T200000Z
X-MICROSOFT-CDO-ALLDAYEVENT:FALSE
SUMMARY:Bossy Conference 2025
DESCRIPTION:Bossy Conference 2025\n\nCelebrate\, Connect\, and Inspire: Women in Business Event hosted by the Perth and District Chamber of Commerce\n\n\n\nRegistration Opens April 14th\n\nJoin us for an inspiring evening dedicated to honoring the incredible women in business who make our community thrive. This event is a celebration of the talent\, resilience\, and innovation that women bring to the business world.\n\nHear from dynamic speakers\, gain fresh insights into building connections\, and discover practical strategies to navigate the challenges of everyday business life. Whether you're a seasoned entrepreneur or just starting your journey\, this is your opportunity to learn\, share\, and grow with like-minded women.\n\nWhen: Tuesday June 3rd\, 2025 9:30am-4pm\n\nWhere: Oakfield Rugby Park\, 2585 Drummond Concession 2\, Perth\, ON K7H 3C84\n\nHow much: Early Bird: $140 +tax\, after April 25th $160 +tax.\n\nWhat's included: Full day of speakers\, workshops\, networking opportunities\, coffee\, lunch and 1 free drink at our social hour! \n\nItinerary:\n\n- Engaging panel of speakers (4 Successful Business Women in our community) talking about work/life balance\n\n- 2 stretching breaks led by Bend Wellness and Andrea Picket \n\n- 2 workshops: Leadership Self Assessment\, and Women Investing\n\n- Keynote Speakers: Owners of Blondie Apparel talking about their story\n\n- Then we will end with a social networking hour with a free drink sponsored by Westport Flooring\n\n- Lunch will be catered by Picnic Catering\n\n\n\nIf you would like to submit a question to ask our panel please do so here: https://docs.google.com/forms/d/e/1FAIpQLSduJJk-g1Oj8Wwx8IgKVl-WKiCN7vGCkXZ6cmF9V38rQNbLXQ/viewform?usp=dialog
X-ALT-DESC;FMTTYPE=text/html:<p><strong><span style="font-size:18px\;">Bossy Conference 2025</span><br />\nCelebrate\, Connect\, and Inspire: Women in Business Event hosted by the Perth and District Chamber of Commerce<br />\n<br />\nRegistration Opens April 14th</strong></p>\n\n<p>Join us for an inspiring evening dedicated to honoring the incredible women in business who make our community thrive. This event is a celebration of the talent\, resilience\, and innovation that women bring to the business world.</p>\n\n<p>Hear from dynamic speakers\, gain fresh insights into building connections\, and discover practical strategies to navigate the challenges of everyday business life. Whether you&rsquo\;re a seasoned entrepreneur or just starting your journey\, this is your opportunity to learn\, share\, and grow with like-minded women.</p>\n\n<p><strong>When</strong>: Tuesday June 3rd\, 2025 9:30am-4pm<br />\n<strong>Where</strong>: Oakfield Rugby Park\,&nbsp\;<span style="color: rgb(71\, 71\, 71)\;">2585 Drummond Concession 2\, Perth\, ON K7H 3C84<br />\n<strong>How much</strong>: Early Bird: $140 +tax\, after April 25th $160 +tax.</span><br />\n<strong>What&#39\;s included:</strong> Full day of speakers\, workshops\, networking opportunities\, coffee\, lunch and 1 free drink at our&nbsp\;social hour!&nbsp\;<br />\n<strong>Itinerary</strong>:<br />\n- Engaging&nbsp\;panel of speakers (4 Successful Business Women in our community)&nbsp\;talking about work/life balance<br />\n- 2 stretching breaks led by Bend Wellness and Andrea Picket&nbsp\;<br />\n- 2 workshops: Leadership Self Assessment\, and Women Investing<br />\n- Keynote Speakers: Owners of Blondie Apparel talking about their story<br />\n- Then we will end with a social networking hour with a free drink sponsored by Westport Flooring<br />\n- Lunch will be catered by Picnic Catering<br />\n<br />\nIf you would like to submit a question to ask our panel&nbsp\;please do so here:&nbsp\;https://docs.google.com/forms/d/e/1FAIpQLSduJJk-g1Oj8Wwx8IgKVl-WKiCN7vGCkXZ6cmF9V38rQNbLXQ/viewform?usp=dialog</p>\n
LOCATION:Oakfield Rugby Park\, 2585 Drummond Concession 2\, Perth\, ON K7H 3C84
UID:e.3151.291
SEQUENCE:3
DTSTAMP:20260421T014228Z
URL:https://members.perthchamber.com/events/details/bossy-conference-2025-291
END:VEVENT

END:VCALENDAR
