BEGIN:VCALENDAR
VERSION:2.0
PRODID:-//ChamberMaster//Event Calendar 2.0//EN
METHOD:PUBLISH
X-PUBLISHED-TTL:P3D
REFRESH-INTERVAL:P3D
CALSCALE:GREGORIAN
BEGIN:VEVENT
DTSTART:20251023T213000Z
DTEND:20251024T020000Z
X-MICROSOFT-CDO-ALLDAYEVENT:FALSE
SUMMARY:Business Achievement Awards 2025
DESCRIPTION:2025 Business Achievement Awards Soir e- SOLD OUT-\n\n\n\nJoin us for a night of elegance and celebration at the 2025 Business Achievement Awards Soir e hosted by the Perth and District Chamber of Commerce! This formal event will honour and recognize the outstanding contributions of our local business owners who tirelessly support our community.\n\n\n\nWe have a new format for this year's event! \n\n\n\nThe theme for our awards celebration this year is the Academy Awards (we're blending a dash of the red carpet with a hint of old Hollywood glamour).The first order of events will entail an evening of celebration from 5:30 pm- 7:30 pm at the Crystal Palace where we will dine in style. There will be hors d'oeuvres and refreshments catered by local vendors. In addition\, there will be live music by River City Junction! \n\n\n\nThe second order of events will entail heading over to the Studio Perth Theatre from 7:30 pm - 10:00 pm to participate and enjoy the awards recognition ceremony. \n\n\n\nDate: Thursday October 23rd\, 2025\n\nTickets: $65 + HST\n\nTime: Doors Open at 5:30pm \n\nLocations: Crystal Palace + Studio Theatre Perth\n\n\n\nDress to impress in your finest attire as we gather to recognize the hard work and dedication of our nominees. With categories highlighting excellence in various sectors\, this is a unique opportunity to showcase the talent and innovation that drives our local economy.\n\n\n\nBring your colleagues and enjoy a fancy night out filled with delicious food\, inspiring speeches\, and the chance to network with fellow business leaders.\n\n\n\nCelebrate the spirit of entrepreneurship and help us shine a light on those who make Perth and District a vibrant place to live and work.\n\n\n\nAwards Categories:\n\n	Business of the Year Award\n	Entrepreneur of the Year Award \n	Team of the Year Award \n	The People's Choice Award\n	Community Involvement Award\n\n\n\nReserve your tickets today and be part of this unforgettable evening! The last day to register is Monday October 20th. \n\n\n\nWith Gift Basket and Bingo Prizes donated by: \n\n\n	Bridge Masters Brewing Company\n	Flint and Honey\n	Mariposa\n	Maximilian's\n	Perth General Store\n	Studio Theatre Perth \n	Top Shelf\n\n\n\n\n\nCatered by: \n\n\n	Frank's Bakery and Deli\n	Gather\n	Maximilian Restaurant\n	Metro Perth\n	Northfolk Caf \n	Perth Chocolate Works\n	Picnic Caf  and Catering\n	Old Fashioned Fudge Inc.
X-ALT-DESC;FMTTYPE=text/html:<strong>2025&nbsp\;Business Achievement Awards Soir&eacute\;e- SOLD OUT-</strong><br />\n<br />\nJoin us for a night of elegance and celebration at the<strong>&nbsp\;2025 Business Achievement&nbsp\;Awards&nbsp\;Soir&eacute\;e</strong>&nbsp\;hosted by the Perth and District Chamber of Commerce! This formal event will honour and recognize the outstanding contributions of our local business owners who tirelessly support our community.<br />\n<br />\n<strong>We have a new format for this year&#39\;s event!&nbsp\;</strong><br />\n<br />\nThe<strong>&nbsp\;theme</strong>&nbsp\;for our awards celebration this year is&nbsp\;<em>the&nbsp\;<strong>Academy Awards (we&#39\;re blending a dash of the red carpet with a hint of old Hollywood glamour)</strong>.</em>The first order of events will entail an evening of celebration from 5:30 pm- 7:30 pm&nbsp\;at the Crystal Palace where we will dine in style. There will&nbsp\;be hors d&#39\;oeuvres and refreshments catered by local vendors. In addition\, there will be&nbsp\;live music by River City Junction!&nbsp\;<br />\n<br />\nThe second order of events will entail heading over to the Studio Perth Theatre from 7:30 pm - 10:00 pm to participate and enjoy the awards recognition ceremony.&nbsp\;<br />\n<br />\n<strong>Date: Thursday October 23rd\, 2025</strong><br />\n<strong>Tickets: $65 + HST</strong><br />\n<strong>Time: Doors Open at 5:30pm&nbsp\;<br />\nLocations: Crystal Palace + Studio Theatre Perth</strong><br />\n<br />\nDress to impress in your finest attire as we gather to recognize the hard work and dedication of our nominees. With categories highlighting excellence in various sectors\, this is a unique opportunity to showcase the talent and innovation that drives our local economy.<br />\n<br />\nBring your colleagues&nbsp\;and enjoy a fancy night out filled with delicious food\, inspiring speeches\, and the chance to network with fellow business leaders.<br />\n<br />\nCelebrate the spirit of entrepreneurship and help us shine a light on those who make Perth and District a vibrant place to live and work.<br />\n<br />\n<strong>Awards Categories:</strong>\n<ul>\n	<li><span style="font-size:14px\;"><span style="font-family:arial\;"><strong>Business of the Year Award</strong></span></span></li>\n	<li><span style="font-size:14px\;"><span style="font-family:arial\;"><strong>Entrepreneur of the Year Award</strong>&nbsp\;</span></span></li>\n	<li><span style="font-size:14px\;"><span style="font-family:arial\;"><strong>Team of the Year Award</strong>&nbsp\;</span></span></li>\n	<li><span style="font-size:14px\;"><span style="font-family:arial\;"><strong>The People&rsquo\;s Choice Award</strong></span></span></li>\n	<li><span style="font-size:14px\;"><span style="font-family:arial\;"><strong>Community Involvement Award</strong></span></span></li>\n</ul>\n<br />\n<strong>Reserve your tickets today and be part of this unforgettable evening! The last day to register is Monday October 20th.&nbsp\;</strong><br />\n<br />\n<b>With Gift Basket and Bingo Prizes donated by:&nbsp\;</b>\n\n<ul>\n	<li><b>Bridge Masters Brewing Company</b></li>\n	<li><b>Flint and Honey</b></li>\n	<li><b>Mariposa</b></li>\n	<li><b>Maximilian&#39\;s</b></li>\n	<li><b>Perth General Store</b></li>\n	<li><b>Studio Theatre Perth&nbsp\;</b></li>\n	<li><b>Top Shelf</b></li>\n</ul>\n<br />\n<br />\n<strong>Catered by:&nbsp\;</strong>\n\n<ul>\n	<li><strong>Frank&#39\;s Bakery and Deli</strong></li>\n	<li><strong>Gather</strong></li>\n	<li><strong>Maximilian Restaurant</strong></li>\n	<li><strong>Metro Perth</strong></li>\n	<li><strong>Northfolk Caf&eacute\;</strong></li>\n	<li><strong>Perth Chocolate Works</strong></li>\n	<li><strong>Picnic Caf&eacute\;&nbsp\;and Catering</strong></li>\n	<li><strong>Old Fashioned Fudge Inc.</strong></li>\n</ul>\n
LOCATION:Crystal Palace 31 Basin Ln\, Perth\, ON K7H 1J1 Studio Perth Theatre 63 Gore St E\, Perth\, ON K7H 1H8
UID:e.3151.294
SEQUENCE:3
DTSTAMP:20260421T063757Z
URL:https://members.perthchamber.com/events/details/business-achievement-awards-2025-294
END:VEVENT

END:VCALENDAR
