BEGIN:VCALENDAR
VERSION:2.0
PRODID:-//ChamberMaster//Event Calendar 2.0//EN
METHOD:PUBLISH
X-PUBLISHED-TTL:P3D
REFRESH-INTERVAL:P3D
CALSCALE:GREGORIAN
BEGIN:VEVENT
DTSTART:20230920T210000Z
DTEND:20230920T232500Z
X-MICROSOFT-CDO-ALLDAYEVENT:FALSE
SUMMARY:Business After 5
DESCRIPTION:After Hours Business Networking Event\n\nCome and experience the fantastic new venue - 1827 Wine & Cheese Lounge
X-ALT-DESC;FMTTYPE=text/html:<strong>After Hours Business Networking Event</strong><br />\nCome and experience the fantastic new venue -&nbsp\;<strong><em>1827 Wine &amp\; Cheese Lounge</em></strong>
LOCATION:100 Gore Street East Perth\, ON
UID:e.3151.233
SEQUENCE:3
DTSTAMP:20260424T002946Z
URL:https://members.perthchamber.com/events/details/business-after-5-233
END:VEVENT

END:VCALENDAR
