BEGIN:VCALENDAR
VERSION:2.0
PRODID:-//ChamberMaster//Event Calendar 2.0//EN
METHOD:PUBLISH
X-PUBLISHED-TTL:P3D
REFRESH-INTERVAL:P3D
CALSCALE:GREGORIAN
BEGIN:VEVENT
DTSTART:20191107T123000Z
DTEND:20191107T140000Z
X-MICROSOFT-CDO-ALLDAYEVENT:FALSE
SUMMARY:Business at Breakfast at Fiddleheads
DESCRIPTION:OUR TOPIC: NO NUMERACY\, NO PROFITS   KNOW NUMERACY\, KNOW PROFITS   3 ways you are losing money you don't even notice\n\nHow would you like to:\n\n	Catch potential problems earlier so they don't grow?\n	Increase individual employee efficiency up to 15%?\n	Make employee's day-to-day actions more focused?\n	Identify and capitalize on opportunities earlier?\n	Develop better more comprehensive metrics?\n	Customize your reports to be more effective?\n	Improve your strategic planning and goals?\n	Gain better control over expenses?\n	Improve your bottom line?\n\n \n\nWhat can you do to produce this incredible range of benefits? The answer lies in becoming numerate: effectively understanding and using the number information you already have. Most of your staff are not financially literate. Learn what it is costing you and what you can do about it.\n\n\n\nMike Fletcher is a CPA/CGA with over forty years of varied business experience on four continents doing all sorts of financial training. His passion now is the broader issue of numeracy\, helping people understand and use the number information they already have\, no math\, no bookkeeping\, no jargon.
X-ALT-DESC;FMTTYPE=text/html:<span style="font-size:12px\;"><strong><span style="color:#202020\;"><span style="font-family:georgia\,serif\;">OUR TOPIC:&nbsp\;NO NUMERACY\, NO PROFITS &ndash\; KNOW NUMERACY\, KNOW PROFITS</span></span></strong><span style="color:#202020\;"><span style="font-family:georgia\,serif\;"> &ndash\;&nbsp\;3 ways you are losing money you don&rsquo\;t even notice</span></span><br />\n<span style="color:#202020\;"><span style="font-family:georgia\,serif\;">How would you like to:</span></span></span>\n<ul>\n	<li style="color:#202020\;line-height:125%\;-ms-text-size-adjust:100%\;-webkit-text-size-adjust:100%\;"><span style="font-size:12px\;"><span style="font-family:georgia\,serif\;">Catch potential problems earlier so they don&rsquo\;t grow?</span></span></li>\n	<li style="color:#202020\;line-height:125%\;-ms-text-size-adjust:100%\;-webkit-text-size-adjust:100%\;"><span style="font-size:12px\;"><span style="font-family:georgia\,serif\;">Increase individual employee efficiency up to 15%?</span></span></li>\n	<li style="color:#202020\;line-height:125%\;-ms-text-size-adjust:100%\;-webkit-text-size-adjust:100%\;"><span style="font-size:12px\;"><span style="font-family:georgia\,serif\;">Make employee&rsquo\;s day-to-day actions more focused?</span></span></li>\n	<li style="color:#202020\;line-height:125%\;-ms-text-size-adjust:100%\;-webkit-text-size-adjust:100%\;"><span style="font-size:12px\;"><span style="font-family:georgia\,serif\;">Identify and capitalize on opportunities earlier?</span></span></li>\n	<li style="color:#202020\;line-height:125%\;-ms-text-size-adjust:100%\;-webkit-text-size-adjust:100%\;"><span style="font-size:12px\;"><span style="font-family:georgia\,serif\;">Develop better more comprehensive metrics?</span></span></li>\n	<li style="color:#202020\;line-height:125%\;-ms-text-size-adjust:100%\;-webkit-text-size-adjust:100%\;"><span style="font-size:12px\;"><span style="font-family:georgia\,serif\;">Customize your reports to be more effective?</span></span></li>\n	<li style="color:#202020\;line-height:125%\;-ms-text-size-adjust:100%\;-webkit-text-size-adjust:100%\;"><span style="font-size:12px\;"><span style="font-family:georgia\,serif\;">Improve your strategic planning and goals?</span></span></li>\n	<li style="color:#202020\;line-height:125%\;-ms-text-size-adjust:100%\;-webkit-text-size-adjust:100%\;"><span style="font-size:12px\;"><span style="font-family:georgia\,serif\;">Gain better control over expenses?</span></span></li>\n	<li style="color:#202020\;line-height:125%\;-ms-text-size-adjust:100%\;-webkit-text-size-adjust:100%\;"><span style="font-size:12px\;"><span style="font-family:georgia\,serif\;">Improve your bottom line?</span></span></li>\n</ul>\n<span style="font-size:12px\;">&nbsp\;<br />\n<span style="color:#202020\;"><span style="font-family:georgia\,serif\;">What can you do to produce this incredible range of benefits? The answer lies in becoming numerate: effectively understanding and using the number information you already have.&nbsp\;Most of your staff are not financially literate. Learn what it is costing you and what you can do about it.</span></span><br />\n<br />\n<span style="color:#202020\;"><span style="font-family:georgia\,serif\;">Mike Fletcher is a CPA/CGA with over forty years of varied business experience on four continents doing all sorts of financial training. His passion now is the broader issue of numeracy\, helping people understand and use the number information they already have\, no math\, no bookkeeping\, no jargon.</span></span></span>
LOCATION:Fiddleheads Restaurant at Codes Mill 53 Herriott St\, Perth\, ON K7H 1H5
UID:e.3151.55
SEQUENCE:3
DTSTAMP:20260424T005916Z
URL:https://members.perthchamber.com/events/details/business-at-breakfast-at-fiddleheads-55
END:VEVENT

END:VCALENDAR
