BEGIN:VCALENDAR
VERSION:2.0
PRODID:-//ChamberMaster//Event Calendar 2.0//EN
METHOD:PUBLISH
X-PUBLISHED-TTL:P3D
REFRESH-INTERVAL:P3D
CALSCALE:GREGORIAN
BEGIN:VEVENT
DTSTART:20200304T123000Z
DTEND:20200304T140000Z
X-MICROSOFT-CDO-ALLDAYEVENT:FALSE
SUMMARY:Business at Breakfast at Fiddleheads Restaurant
DESCRIPTION:Our first Business at Breakfast of the year will be at Fiddleheads Restaurant with a presentation by Sherry Crummy on the NEW new changes to Facebook.
X-ALT-DESC;FMTTYPE=text/html:Our first Business at Breakfast of the year will be at Fiddleheads Restaurant with a presentation by Sherry Crummy on the NEW new changes to Facebook.
LOCATION:Fiddleheads in Codes Mill 53 Herriott St\, Perth\, ON K7H 1H5
UID:e.3151.74
SEQUENCE:3
DTSTAMP:20260423T185519Z
URL:https://members.perthchamber.com/events/details/business-at-breakfast-at-fiddleheads-restaurant-74
END:VEVENT

END:VCALENDAR
