BEGIN:VCALENDAR
VERSION:2.0
PRODID:-//ChamberMaster//Event Calendar 2.0//EN
METHOD:PUBLISH
X-PUBLISHED-TTL:P3D
REFRESH-INTERVAL:P3D
CALSCALE:GREGORIAN
BEGIN:VEVENT
DTSTART:20210621T140000Z
DTEND:20210621T150000Z
X-MICROSOFT-CDO-ALLDAYEVENT:FALSE
SUMMARY:Can I Fire Employees Who Refuse to be Vaccinated? Kinda\, Sorta\, Maybe
DESCRIPTION:Mann Lawyers are presenting in partnership with The Small Business Advisory Centre (Smiths Falls\, Lanark County\, north Leeds Grenville)\, Perth and District Chamber of Commerce and Carleton Place and District Chamber of Commerce\n\n \n\nNigel McKechnie\, Employment Lawyer for Mann Law Lawyers will speak on implications of the COVID -19 vaccine on the workplace and other COVID-19 employment law related issues.\n\n\n	Can you ask for proof of vaccination?\n	Are employees entitled to be paid for time taken to be vaccinated?\n	Can you have a mandatory vaccine policy?\n	How is this different to the flu shot?\n	Is an employer entitled to require its employees to receive the COVID 19 vaccine in order to remain at or return to the workplace?\n	Dealing customers/clients and the COVID-19 vaccine.\n\n\n \n\nThere will be a question and answer period to follow.
X-ALT-DESC;FMTTYPE=text/html:<div style="box-sizing: border-box\; color: rgb(0\, 0\, 0)\; font-family: &quot\;PT Sans&quot\;\, sans-serif\; font-size: 16px\;">Mann Lawyers are presenting in partnership with The Small Business Advisory Centre (Smiths Falls\, Lanark County\, north Leeds Grenville)\, Perth and District Chamber of Commerce and Carleton Place and District Chamber of Commerce</div>\n\n<div style="box-sizing: border-box\; color: rgb(0\, 0\, 0)\; font-family: &quot\;PT Sans&quot\;\, sans-serif\; font-size: 16px\;">&nbsp\;</div>\n\n<div style="box-sizing: border-box\; color: rgb(0\, 0\, 0)\; font-family: &quot\;PT Sans&quot\;\, sans-serif\; font-size: 16px\;">Nigel McKechnie\, Employment Lawyer for Mann Law Lawyers will speak on implications of the COVID -19 vaccine on the workplace and other COVID-19 employment law related issues.</div>\n\n<ul>\n	<li style="box-sizing: border-box\; color: rgb(0\, 0\, 0)\; font-family: &quot\;PT Sans&quot\;\, sans-serif\; font-size: 16px\;">Can you ask for proof of vaccination?</li>\n	<li style="box-sizing: border-box\; color: rgb(0\, 0\, 0)\; font-family: &quot\;PT Sans&quot\;\, sans-serif\; font-size: 16px\;">Are employees entitled to be paid for time taken to be vaccinated?</li>\n	<li style="box-sizing: border-box\; color: rgb(0\, 0\, 0)\; font-family: &quot\;PT Sans&quot\;\, sans-serif\; font-size: 16px\;">Can you have a mandatory vaccine policy?</li>\n	<li style="box-sizing: border-box\; color: rgb(0\, 0\, 0)\; font-family: &quot\;PT Sans&quot\;\, sans-serif\; font-size: 16px\;">How is this different to the flu shot?</li>\n	<li style="box-sizing: border-box\; color: rgb(0\, 0\, 0)\; font-family: &quot\;PT Sans&quot\;\, sans-serif\; font-size: 16px\;">Is an employer entitled to require its employees to receive the COVID 19 vaccine in order to remain at or return to the workplace?</li>\n	<li style="box-sizing: border-box\; color: rgb(0\, 0\, 0)\; font-family: &quot\;PT Sans&quot\;\, sans-serif\; font-size: 16px\;">Dealing customers/clients and the COVID-19 vaccine.</li>\n</ul>\n\n<div style="box-sizing: border-box\; color: rgb(0\, 0\, 0)\; font-family: &quot\;PT Sans&quot\;\, sans-serif\; font-size: 16px\;">&nbsp\;</div>\n\n<div style="box-sizing: border-box\; color: rgb(0\, 0\, 0)\; font-family: &quot\;PT Sans&quot\;\, sans-serif\; font-size: 16px\;"><span style="font-size:14px\;">There will be a question and answer period to follow.</span></div>\n
LOCATION:ZOOM
UID:e.3151.147
SEQUENCE:3
DTSTAMP:20260422T085106Z
URL:https://members.perthchamber.com/events/details/can-i-fire-employees-who-refuse-to-be-vaccinated-kinda-sorta-maybe-147
END:VEVENT

END:VCALENDAR
