BEGIN:VCALENDAR
VERSION:2.0
PRODID:-//ChamberMaster//Event Calendar 2.0//EN
METHOD:PUBLISH
X-PUBLISHED-TTL:P3D
REFRESH-INTERVAL:P3D
CALSCALE:GREGORIAN
BEGIN:VEVENT
DTSTART:20250813T150000Z
DTEND:20250814T000000Z
X-MICROSOFT-CDO-ALLDAYEVENT:FALSE
SUMMARY:Chamber Annual Golf Tournament 2025
DESCRIPTION:Come join us for the Chamber's Annual Golf Tournament\n\n18 Holes of Play\n\nShotgun Start at 12:30PM\n\nWhat's included:\n\n	BBQ LUNCH\n	DINNER\n	RAFFLE ITEMS\n	AWARDS AND AUCTION\n\nWhere:\n\nMapleview Golf Course\n\n2856 Scotchline Rd\, Perth\, ON K7H 3C5\n\n\n\nSchedule:\n\n11:00am Arrive\n\n11:30am BBQ Lunch\n\n12:30pm "Shotgun" Start\n\n5:30pm Social time and games\n\n6:15pm Dinner\n\n7:00pm Golf prizes\, Raffle Draws\, Live Auction\n\n\n\nMember fee $165\, plus HST.\n\nFuture Member fee is $190 plus HST\n\n\n\nPayments by Credit Card required.
X-ALT-DESC;FMTTYPE=text/html:<span style="font-size:18px\;"><span style="font-family:times new roman\;"><span style="font-size:22px\;"><strong>Come join us for the Chamber&#39\;s Annual Golf Tournament</strong></span><br />\n<span style="font-weight: 700\; color: rgb(35\, 55\, 70)\;">18 Holes of Play</span><br />\n<span style="font-weight: 700\; color: rgb(35\, 55\, 70)\;">Shotgun Start at 12:30PM</span><br />\n<span style="font-weight: 700\; color: rgb(35\, 55\, 70)\;">What&rsquo\;s included:</span></span></span>\n<ul>\n	<li><span style="font-size:18px\;"><span style="font-family:times new roman\;"><span class="OYPEnA text-decoration-none text-strikethrough-none" style="color: rgb(35\, 55\, 70)\; font-weight: 700\;">BBQ LUNCH</span></span></span></li>\n	<li><span style="font-size:18px\;"><span style="font-family:times new roman\;"><span class="OYPEnA text-decoration-none text-strikethrough-none" style="color: rgb(35\, 55\, 70)\; font-weight: 700\;">DINNER</span></span></span></li>\n	<li><span style="font-size:18px\;"><span style="font-family:times new roman\;"><span class="OYPEnA text-decoration-none text-strikethrough-none" style="color: rgb(35\, 55\, 70)\; font-weight: 700\;">RAFFLE ITEMS</span></span></span></li>\n	<li><span style="font-size:18px\;"><span style="font-family:times new roman\;"><span class="OYPEnA text-decoration-none text-strikethrough-none" style="color: rgb(35\, 55\, 70)\; font-weight: 700\;">AWARDS AND AUCTION</span></span></span></li>\n</ul>\n<b style="font-family: &quot\;times new roman&quot\;\; font-size: 18px\;">Where:<br />\nMapleview Golf Course</b><br style="font-family: &quot\;times new roman&quot\;\; font-size: 18px\;" />\n<span style="color: var(--COEmY)\; font-family: &quot\;times new roman&quot\;\; font-size: 18px\;">2856 Scotchline Rd\, Perth\, ON K7H 3C5</span><br />\n<br />\n<b>Schedule:<br />\n11:00am Arrive<br />\n11:30am BBQ Lunch<br />\n12:30pm &quot\;Shotgun&quot\; Start<br />\n5:30pm Social time and games<br />\n6:15pm Dinner<br />\n7:00pm Golf prizes\, Raffle Draws\, Live Auction</b><br />\n<br />\nMember fee $165\, plus HST.<br />\nFuture Member fee is $190 plus HST<br />\n<br />\n<strong>Payments by Credit Card required.</strong><br />\n&nbsp\;
LOCATION:Mapleview Golf Course 2856 Scotchline Rd\, Perth\, ON K7H 3C5
UID:e.3151.292
SEQUENCE:3
DTSTAMP:20260421T030611Z
URL:https://members.perthchamber.com/events/details/chamber-annual-golf-tournament-2025-292
END:VEVENT

END:VCALENDAR
