BEGIN:VCALENDAR
VERSION:2.0
PRODID:-//ChamberMaster//Event Calendar 2.0//EN
METHOD:PUBLISH
X-PUBLISHED-TTL:P3D
REFRESH-INTERVAL:P3D
CALSCALE:GREGORIAN
BEGIN:VEVENT
DTSTART:20201210T230000Z
DTEND:20201211T000000Z
X-MICROSOFT-CDO-ALLDAYEVENT:FALSE
SUMMARY:Chamber's Ugly Christmas Sweater Party
DESCRIPTION:Your invited to our Virtual Ugly Sweater Party!\n\nCocktail and food demos\, games\, prizes\, music and more..\n\nWear your favourite ugly Christmas sweater for a chance to win!
X-ALT-DESC;FMTTYPE=text/html:Your invited to our Virtual Ugly Sweater Party!<br />\n<span style="font-size:14px\;">Cocktail and food demos\, games\, prizes\, music and more..</span><br />\n<span class="JsGRdQ" style="font-size: 14px\; font-family: &quot\;YACgEUaXOJg 0&quot\;\, _fb_\, auto\; color: rgb(145\, 216\, 231)\;">Wear</span><span class="JsGRdQ" style="font-size: 14px\; color: rgb(255\, 255\, 255)\; font-family: &quot\;YACgEUaXOJg 0&quot\;\, _fb_\, auto\;"> </span><span class="JsGRdQ" style="font-size: 14px\; font-family: &quot\;YACgEUaXOJg 0&quot\;\, _fb_\, auto\; color: rgb(196\, 193\, 58)\;">your</span><span class="JsGRdQ" style="font-size: 14px\; color: rgb(255\, 255\, 255)\; font-family: &quot\;YACgEUaXOJg 0&quot\;\, _fb_\, auto\;"> </span><span class="JsGRdQ" style="font-size: 14px\; font-family: &quot\;YACgEUaXOJg 0&quot\;\, _fb_\, auto\; color: rgb(154\, 57\, 213)\;">favourite</span><span class="JsGRdQ" style="font-size: 14px\; color: rgb(255\, 255\, 255)\; font-family: &quot\;YACgEUaXOJg 0&quot\;\, _fb_\, auto\;"> </span><span class="JsGRdQ" style="font-size: 14px\; font-family: &quot\;YACgEUaXOJg 0&quot\;\, _fb_\, auto\; color: rgb(246\, 13\, 72)\;">ugly</span><span class="JsGRdQ" style="font-size: 14px\; color: rgb(255\, 255\, 255)\; font-family: &quot\;YACgEUaXOJg 0&quot\;\, _fb_\, auto\;"> </span><span class="JsGRdQ" style="font-size: 14px\; font-family: &quot\;YACgEUaXOJg 0&quot\;\, _fb_\, auto\; color: rgb(126\, 217\, 87)\;">Christmas</span><span class="JsGRdQ" style="font-size: 14px\; color: rgb(255\, 255\, 255)\; font-family: &quot\;YACgEUaXOJg 0&quot\;\, _fb_\, auto\;"> </span><span class="JsGRdQ" style="font-size: 14px\; font-family: &quot\;YACgEUaXOJg 0&quot\;\, _fb_\, auto\; color: rgb(255\, 102\, 196)\;">sweater</span><span class="JsGRdQ" style="font-size: 14px\; color: rgb(255\, 255\, 255)\; font-family: &quot\;YACgEUaXOJg 0&quot\;\, _fb_\, auto\;"> </span><span class="JsGRdQ" style="font-size: 14px\; font-family: &quot\;YACgEUaXOJg 0&quot\;\, _fb_\, auto\; color: rgb(255\, 145\, 77)\;">for</span><span class="JsGRdQ" style="font-size: 14px\; color: rgb(255\, 255\, 255)\; font-family: &quot\;YACgEUaXOJg 0&quot\;\, _fb_\, auto\;"> </span><span class="JsGRdQ" style="font-size: 14px\; font-family: &quot\;YACgEUaXOJg 0&quot\;\, _fb_\, auto\; color: rgb(59\, 191\, 173)\;">a </span><span class="JsGRdQ" style="font-size: 14px\; font-family: &quot\;YACgEUaXOJg 0&quot\;\, _fb_\, auto\; color: rgb(203\, 108\, 230)\;">chance</span><span class="JsGRdQ" style="font-size: 14px\; color: rgb(255\, 255\, 255)\; font-family: &quot\;YACgEUaXOJg 0&quot\;\, _fb_\, auto\;"> </span><span class="JsGRdQ" style="font-size: 14px\; font-family: &quot\;YACgEUaXOJg 0&quot\;\, _fb_\, auto\; color: rgb(82\, 113\, 255)\;">to</span><span class="JsGRdQ" style="font-size: 14px\; color: rgb(255\, 255\, 255)\; font-family: &quot\;YACgEUaXOJg 0&quot\;\, _fb_\, auto\;"> </span><span class="JsGRdQ" style="font-size: 14px\; font-family: &quot\;YACgEUaXOJg 0&quot\;\, _fb_\, auto\; color: rgb(255\, 87\, 87)\;">win!</span><br />\n&nbsp\;
LOCATION:It's happening via ZOOM. Once registered a Zoom invite will be sent to you.
UID:e.3151.125
SEQUENCE:3
DTSTAMP:20260425T200104Z
URL:https://members.perthchamber.com/events/details/chamber-s-ugly-christmas-sweater-party-125
END:VEVENT

END:VCALENDAR
