BEGIN:VCALENDAR
VERSION:2.0
PRODID:-//ChamberMaster//Event Calendar 2.0//EN
METHOD:PUBLISH
X-PUBLISHED-TTL:P3D
REFRESH-INTERVAL:P3D
CALSCALE:GREGORIAN
BEGIN:VEVENT
DTSTART:20181128T223000Z
DTEND:20181129T010000Z
X-MICROSOFT-CDO-ALLDAYEVENT:FALSE
SUMMARY:Christmas Social - Clyde Hall 2018
DESCRIPTION:This year we are heading back to Clyde Hall B&B. If you were fortunate to make it last year you will remember the exceptional food and beautiful festive atmosphere of Clyde Hall. Last year we SOLD OUT for this event so book early to reserve your spot.
X-ALT-DESC;FMTTYPE=text/html:This year we are heading back to Clyde Hall B&amp\;B. If you were fortunate to make it last year you will remember the exceptional food and beautiful festive atmosphere of Clyde Hall. Last year we SOLD OUT for this event so book early to reserve your spot.<br />\n&nbsp\;
LOCATION:131 Mill St\, Lanark\, ON K0G 1K0 (613) 259-2330
UID:e.3151.32
SEQUENCE:3
DTSTAMP:20260421T162159Z
URL:https://members.perthchamber.com/events/details/christmas-social-clyde-hall-2018-32
END:VEVENT

END:VCALENDAR
