BEGIN:VCALENDAR
VERSION:2.0
PRODID:-//ChamberMaster//Event Calendar 2.0//EN
METHOD:PUBLISH
X-PUBLISHED-TTL:P3D
REFRESH-INTERVAL:P3D
CALSCALE:GREGORIAN
BEGIN:VEVENT
DTSTART;VALUE=DATE:20260129
DTEND;VALUE=DATE:20260130
TRANSP:TRANSPARENT
X-MICROSOFT-CDO-ALLDAYEVENT:TRUE
SUMMARY:Coffee O'Clock- CANCELLED
DESCRIPTION:Cancelled.\n\n\n\nDue to unforeseen circumstances\, we have had to cancel this event.
X-ALT-DESC;FMTTYPE=text/html:Cancelled.<br />\n<br />\nDue to unforeseen circumstances\, we have had to cancel this event.&nbsp\;
LOCATION:
UID:e.3151.325
SEQUENCE:3
DTSTAMP:20260423T114326Z
URL:https://members.perthchamber.com/events/details/coffee-o-clock-cancelled-325
END:VEVENT

END:VCALENDAR
