BEGIN:VCALENDAR
VERSION:2.0
PRODID:-//ChamberMaster//Event Calendar 2.0//EN
METHOD:PUBLISH
X-PUBLISHED-TTL:P3D
REFRESH-INTERVAL:P3D
CALSCALE:GREGORIAN
BEGIN:VEVENT
DTSTART:20201006T130000Z
DTEND:20201006T140000Z
X-MICROSOFT-CDO-ALLDAYEVENT:FALSE
SUMMARY:CRA Seminar hosted by the Perth & Carleton Place Chamber
DESCRIPTION:The Government of Canada recently implemented changes to adapt the Canada Emergency Wage Subsidy to protect jobs and promote growth. Join us for a webinar with Liaison Officers from Canada Revenue Agency to discuss the changes made to the Canada Emergency Wage Subsidy (CEWS) including a demonstration on using the online calculator.
X-ALT-DESC;FMTTYPE=text/html:<span style="color:black\;"><span style="font-family:century gothic\,sans-serif\;">The Government of Canada recently implemented changes to adapt the Canada Emergency Wage Subsidy to protect jobs and promote growth. Join us for a webinar with Liaison Officers from Canada Revenue Agency to discuss the changes made to the Canada Emergency Wage Subsidy (CEWS) including a demonstration on using the online calculator.</span></span>
LOCATION:Join Zoom Meeting https://us02web.zoom.us/j/85410181407 Meeting ID: 854 1018 1407 One tap mobile +16473744685\,\,85410181407# Canada +16475580588\,\,85410181407# Canada Dial by your location +1 647 374 4685 Canada +1 647 558 0588 Canada +1 778 907 2071 Canada +1 204 272 7920 Canada +1 438 809 7799 Canada +1 587 328 1099 Canada Meeting ID: 854 1018 1407 Find your local number: https://us02web.zoom.us/u/kewRt6G0wp
UID:e.3151.121
SEQUENCE:3
DTSTAMP:20260425T224705Z
URL:https://members.perthchamber.com/events/details/cra-seminar-hosted-by-the-perth-carleton-place-chamber-121
END:VEVENT

END:VCALENDAR
