BEGIN:VCALENDAR
VERSION:2.0
PRODID:-//ChamberMaster//Event Calendar 2.0//EN
METHOD:PUBLISH
X-PUBLISHED-TTL:P3D
REFRESH-INTERVAL:P3D
CALSCALE:GREGORIAN
BEGIN:VEVENT
DTSTART:20230517T150000Z
DTEND:20230517T190000Z
X-MICROSOFT-CDO-ALLDAYEVENT:FALSE
SUMMARY:Do Good\, Look Good | Business Portraits for Charity
DESCRIPTION:This fundraising event is a great opportunity to DO GOOD for your local community and LOOK GOOD doing it by updating your business portrait. In order to sign up and reserve your spot\, your participation fee of $200 is collected and put ENTIRELY towards the donation to the Lanark County Interval House & Community Support. With that fee\, you are entitled to one professional business portrait to use for your small business (business cards\, website\, social media\, etc.) and/or your profile photo on social media. You will also have the opportunity to purchase additional images\, upgrade to a full branding session\, or add on a complimentary family portrait session so the whole gang can look good.
X-ALT-DESC;FMTTYPE=text/html:This fundraising event is a great opportunity to DO GOOD for your local community and LOOK GOOD doing it by updating your business portrait. In order to sign up and reserve your spot\, your participation fee of $200 is collected and put ENTIRELY towards the donation to the Lanark County Interval House &amp\; Community Support. With that fee\, you are entitled to one professional business portrait to use for your small business (business cards\, website\, social media\, etc.) and/or your profile photo on social media. You will also have the opportunity to purchase additional images\, upgrade to a full branding session\, or add on a complimentary family portrait session so the whole gang can look good.
LOCATION:The Pure Natural Portraits studio in Almonte (124 Main Street East).
UID:e.3151.228
SEQUENCE:3
DTSTAMP:20260422T173714Z
URL:https://members.perthchamber.com/events/details/do-good-look-good-business-portraits-for-charity-228
END:VEVENT

END:VCALENDAR
