BEGIN:VCALENDAR
VERSION:2.0
PRODID:-//ChamberMaster//Event Calendar 2.0//EN
METHOD:PUBLISH
X-PUBLISHED-TTL:P3D
REFRESH-INTERVAL:P3D
CALSCALE:GREGORIAN
BEGIN:VEVENT
DTSTART;VALUE=DATE:20210401
DTEND;VALUE=DATE:20210402
TRANSP:TRANSPARENT
X-MICROSOFT-CDO-ALLDAYEVENT:TRUE
SUMMARY:Festival of the Maples
DESCRIPTION:Join us for this year's NEW Virtual Festival of the Maples: https://festivalofthemaples.com/
X-ALT-DESC;FMTTYPE=text/html:<span style="font-size:14px\;"><font color="#0000ff" face="arial">Join us for this year&#39\;s NEW Virtual Festival of the Maples:&nbsp\;</font>https://festivalofthemaples.com/</span>
LOCATION:Virtual: https://festivalofthemaples.com/
UID:e.3151.45
SEQUENCE:3
DTSTAMP:20260420T020320Z
URL:https://members.perthchamber.com/events/details/festival-of-the-maples-45
END:VEVENT

END:VCALENDAR
