BEGIN:VCALENDAR
VERSION:2.0
PRODID:-//ChamberMaster//Event Calendar 2.0//EN
METHOD:PUBLISH
X-PUBLISHED-TTL:P3D
REFRESH-INTERVAL:P3D
CALSCALE:GREGORIAN
BEGIN:VEVENT
DTSTART:20210113T150000Z
DTEND:20210113T160000Z
X-MICROSOFT-CDO-ALLDAYEVENT:FALSE
SUMMARY:Introduction to Canva: The Basics (3 Part Series -1 of 3 )
DESCRIPTION:Welcome to Canva!\n\nCanva is a graphic design platform\, used to create social media graphics\, presentations\, posters\, documents and other visual content. In today's webinar\, you will be introduced to the basics of setting up an efficient and effective account\, including the development of a personalized brand kit\, folders\, and customizing social media templates (i.e. changing fonts\, colours\, images)   for use on Facebook\, Instagram\, and Stories.\n\nNote: This webinar is a 3-part series. This is webinar 1/3.
X-ALT-DESC;FMTTYPE=text/html:<p style="margin: 0px\; padding: 15px 15px 8px\; box-sizing: border-box\; font-family: &quot\;PT Sans&quot\;\, sans-serif\; font-size: 1.8rem\; text-align: justify\; background-color: rgb(255\, 255\, 255)\;"><strong><span style="font-size:14px\;">Welcome to Canva!</span></strong></p>\n\n<h3 style="margin: 0px\; padding: 15px 15px 8px\; box-sizing: border-box\; font-family: &quot\;PT Sans&quot\;\, sans-serif\; font-size: 1.8rem\; text-align: justify\; background-color: rgb(255\, 255\, 255)\;"><span style="font-size:14px\;">Canva is a graphic design platform\, used to create social media graphics\, presentations\, posters\, documents and other visual content. In today&rsquo\;s webinar\, you will be introduced to the basics of setting up an efficient and effective account\, including the development of a personalized brand kit\, folders\, and customizing social media templates (i.e. changing fonts\, colours\, images) &ndash\; for use on Facebook\, Instagram\, and Stories.</span></h3>\n\n<h3 style="margin: 0px\; padding: 15px 15px 8px\; box-sizing: border-box\; font-family: &quot\;PT Sans&quot\;\, sans-serif\; font-size: 1.8rem\; text-align: justify\; background-color: rgb(255\, 255\, 255)\;"><span style="font-size:14px\;"><strong style="box-sizing: border-box\;"><em style="box-sizing: border-box\;">Note: This webinar is a 3-part series. This is webinar 1/3.</em></strong></span></h3>\n
LOCATION:Zoom https://us02web.zoom.us/meeting/register/tZErc-Cspj0qGtGZ9gvSqN05CFl06XaQaU_H
UID:e.3151.127
SEQUENCE:3
DTSTAMP:20260425T180639Z
URL:https://members.perthchamber.com/events/details/introduction-to-canva-the-basics-3-part-series-1-of-3-127
END:VEVENT

END:VCALENDAR
