BEGIN:VCALENDAR
VERSION:2.0
PRODID:-//ChamberMaster//Event Calendar 2.0//EN
METHOD:PUBLISH
X-PUBLISHED-TTL:P3D
REFRESH-INTERVAL:P3D
CALSCALE:GREGORIAN
BEGIN:VEVENT
DTSTART:20230524T210000Z
DTEND:20230524T230000Z
X-MICROSOFT-CDO-ALLDAYEVENT:FALSE
SUMMARY:Members' Open House
DESCRIPTION:Meet our new Executive Director - Gail Logan and learn about our great member benefits:  Chambers of Commerce Group Insurance Plan and FanSaves member to member and public marketing.
X-ALT-DESC;FMTTYPE=text/html:Meet our new Executive Director - Gail Logan and learn about our great member benefits:&nbsp\; Chambers of Commerce Group Insurance Plan and FanSaves member to member and public marketing.
LOCATION:Maximillian Restaurant 99 Gore St. E Perth\, ON K7H 1J1
UID:e.3151.216
SEQUENCE:3
DTSTAMP:20260424T060821Z
URL:https://members.perthchamber.com/events/details/members-open-house-216
END:VEVENT

END:VCALENDAR
