BEGIN:VCALENDAR
VERSION:2.0
PRODID:-//ChamberMaster//Event Calendar 2.0//EN
METHOD:PUBLISH
X-PUBLISHED-TTL:P3D
REFRESH-INTERVAL:P3D
CALSCALE:GREGORIAN
BEGIN:VEVENT
DTSTART;VALUE=DATE:20210305
DTEND;VALUE=DATE:20210306
TRANSP:TRANSPARENT
X-MICROSOFT-CDO-ALLDAYEVENT:TRUE
SUMMARY:Speedy Coffee Chat
DESCRIPTION:Want to meet great local business owners regularly? Do you want to grow your network? Do you enjoy chatting with like-minded people over coffee? Well have we got a opportunity for you.\n\n \n\nSign Up for the Perth & District Chamber Speedy Coffee Chats! Inspired by #52coffees\, Speedy Networking is organizing a business networking program for 2021.\n\n \n\nHow it works:\n\n\n	The Chamber will build and provide all participants with a meeting schedule\;\n	The Participants will be provided with the groups contact information\, so each member can contact one another to schedule a meeting\;\n	Participants agree on a day\, time and place (virtual) and will have two weeks to schedule and have a meeting\;\n	Meetings must be complete by the 2nd and 4th Friday of the month (meaning you would meet for virtual coffee with someone twice a month).\n\n\nThe goal is for every participant to have 20 coffees in the year of 2021 in an environment that you are comfortable with.\n\n\n \n\n\nRegister Now to get matched with local business professionals and to grow your network in 2021!
X-ALT-DESC;FMTTYPE=text/html:<div style="margin: 0px\; padding: 0px\; border: 0px\; outline: 0px\; font-size: 14px\; vertical-align: baseline\; background-image: initial\; background-position: initial\; background-size: initial\; background-repeat: initial\; background-attachment: initial\; background-origin: initial\; background-clip: initial\; color: rgb(0\, 85\, 165)\; font-family: Arial\;">\n<div style="margin: 0px\; padding: 0px\; border: 0px\; outline: 0px\; vertical-align: baseline\; background: transparent\; font-family: sans-serif\;"><span style="font-family:arial\;">Want to meet great local business owners regularly? Do you want to grow your network? Do you enjoy chatting with like-minded people over coffee? Well have we got a opportunity for you.</span></div>\n\n<div style="margin: 0px\; padding: 0px\; border: 0px\; outline: 0px\; vertical-align: baseline\; background: transparent\; font-family: sans-serif\;">&nbsp\;</div>\n\n<div style="margin: 0px\; padding: 0px\; border: 0px\; outline: 0px\; vertical-align: baseline\; background: transparent\; font-family: sans-serif\;"><span style="font-family:arial\;"><a href="https://speedynetworkingonline.com/coffee-chats/?fbclid=IwAR0Cz45GU33Fw2l6A8T-nV1K_bWJ1lZ1b6n_sx9EUO_fuDvLvFiYeAIOHWY#Register" style="margin: 0px\; padding: 0px\; vertical-align: baseline\; color: rgb(0\, 85\, 165)\; border: 0px\; outline: 0px\; text-decoration-line: none\;" target="_blank">Sign Up</a>&nbsp\;for the Perth &amp\; District Chamber Speedy Coffee Chats! Inspired by #52coffees\, Speedy Networking is organizing a&nbsp\;business networking program for 2021.</span></div>\n\n<div style="margin: 0px\; padding: 0px\; border: 0px\; outline: 0px\; vertical-align: baseline\; background: transparent\; font-family: sans-serif\;">&nbsp\;</div>\n\n<div style="margin: 0px\; padding: 0px\; border: 0px\; outline: 0px\; vertical-align: baseline\; background: transparent\; font-family: sans-serif\;"><span style="font-family:arial\;"><span style="color:black\;">How it works:</span></span></div>\n\n<ul>\n	<li style="margin: 0px\; padding: 0px\; border: 0px\; outline: 0px\; vertical-align: baseline\; background: transparent\; font-family: sans-serif\;"><span style="font-family:arial\;"><span style="font-size:14px\;"><span style="color:black\;">The Chamber will build and provide all participants with a meeting schedule\;</span></span></span></li>\n	<li style="margin: 0px\; padding: 0px\; border: 0px\; outline: 0px\; vertical-align: baseline\; background: transparent\; font-family: sans-serif\;"><span style="font-family:arial\;"><span style="font-size:14px\;"><span style="color:black\;">The Participants will be provided&nbsp\;with the groups contact information\, so each member can contact one another to schedule a meeting\;</span></span></span></li>\n	<li style="margin: 0px\; padding: 0px\; border: 0px\; outline: 0px\; vertical-align: baseline\; background: transparent\; font-family: sans-serif\;"><span style="font-family:arial\;"><span style="font-size:14px\;"><span style="color:black\;">Participants agree on a day\, time and place (virtual)&nbsp\;and will have two weeks to schedule and have a meeting\;</span></span></span></li>\n	<li style="margin: 0px\; padding: 0px\; border: 0px\; outline: 0px\; vertical-align: baseline\; background: transparent\; font-family: sans-serif\;"><span style="font-family:arial\;"><span style="font-size:14px\;"><span style="color:black\;">Meetings must be complete&nbsp\;by the 2nd and 4th Friday of the month (meaning you would meet for virtual coffee with someone twice a month).</span></span></span></li>\n</ul>\n\n<div style="margin: 0px\; padding: 0px\; border: 0px\; outline: 0px\; vertical-align: baseline\; background: transparent\; font-family: sans-serif\;"><span style="font-family:arial\;"><span style="color:black\;"><span style="font-size:11.0pt\;">The goal is for every participant to have 20 coffees in the year of 2021 in an environment that you are comfortable with.</span></span></span></div>\n\n<div style="margin: 0px\; padding: 0px\; border: 0px\; outline: 0px\; vertical-align: baseline\; background: transparent\;">\n<div style="margin: 0px\; padding: 0px\; border: 0px\; outline: 0px\; vertical-align: baseline\; background: transparent\;">&nbsp\;</div>\n</div>\n</div>\n<span style="font-family:arial\;"><font color="#000000" style="font-family: Arial\; font-size: 14px\;"><b style="margin: 0px\; padding: 0px\; border: 0px\; outline: 0px\; vertical-align: baseline\; background: transparent\;">Register Now to get matched with local business professionals and to grow your network in 2021!</b></font></span>
LOCATION:You choose.
UID:e.3151.138
SEQUENCE:3
DTSTAMP:20260425T143610Z
URL:https://members.perthchamber.com/events/details/speedy-coffee-chat-138
END:VEVENT

END:VCALENDAR
