BEGIN:VCALENDAR
VERSION:2.0
PRODID:-//ChamberMaster//Event Calendar 2.0//EN
METHOD:PUBLISH
X-PUBLISHED-TTL:P3D
REFRESH-INTERVAL:P3D
CALSCALE:GREGORIAN
BEGIN:VEVENT
DTSTART:20200529T160000Z
DTEND:20200529T170000Z
X-MICROSOFT-CDO-ALLDAYEVENT:FALSE
SUMMARY:The 3 Roles of a Business Owner - Positioning Your Business to Thrive
DESCRIPTION:This workshop has been moved to Friday\, May 29th as we partner with the Small Business Advisory Centre. \n\nAs businesses prepare for the rebound and recovery phase of the COVID-19 pandemic\, the key to your planning will be a clear understanding of the 3 roles of the business owner and why it is so important to execute these 3 roles (Technician\, Manger\, Leader) in the proper proportions.  Kevin will explain why it is critical that you are marketing and converting leads to customers as effectively as possible in order to ramp up cashflow and profits ASAP.  Kevin will touch on things that we need to do as business owners while self-isolating\, taking full advantage of the extra time to ensure your business is positioned in the best way possible when its time to go live after the pandemic.\n\n\n\nPresented by Kevin Savoy of ByNan Business Solutions: With 22 years of leadership\, management and organization development\, a successful 7 year business coaching company\, I have mentored others to achieve excellent results through a strong team directed toward a clear and achievable purpose.
X-ALT-DESC;FMTTYPE=text/html:<span style="color: rgb(68\, 68\, 68)\; font-family: Raleway\, sans-serif\; font-size: 16px\;">This workshop has been moved to Friday\, May 29th as we partner with the Small Business Advisory Centre.&nbsp\;</span><br />\n<span style="color: rgb(68\, 68\, 68)\; font-family: Raleway\, sans-serif\; font-size: 16px\;">As businesses prepare for the rebound and recovery phase of the COVID-19 pandemic\, the key to your planning will be a clear understanding of the 3 roles of the business owner and why it is so important to execute these 3 roles (Technician\, Manger\, Leader) in the proper proportions.&nbsp\; Kevin will explain why it is critical that you are marketing and converting leads to customers as effectively as possible in order to ramp up cashflow and profits ASAP.&nbsp\; Kevin will touch on things that we need to do as business owners while self-isolating\, taking full advantage of the extra time to ensure your business is positioned in the best way possible when its time to go live after the pandemic.</span><br />\n<br />\n<span style="color: rgb(28\, 30\, 33)\; font-family: Helvetica\, Arial\, sans-serif\; font-size: 12px\; white-space: pre-wrap\;">Presented by Kevin Savoy of ByNan Business Solutions: With 22 years of leadership\, management and organization development\, a successful 7 year business coaching company\, I have mentored others to achieve excellent results through a strong team directed toward a clear and achievable purpose.</span>
LOCATION:Register with the Small Business Advisory Centre - https://smallbizcentre.ca/events/the-3-roles-of-a-business-owner-positioning-your-business-to-thrive/
UID:e.3151.101
SEQUENCE:3
DTSTAMP:20260423T134333Z
URL:https://members.perthchamber.com/events/details/the-3-roles-of-a-business-owner-positioning-your-business-to-thrive-101
END:VEVENT

END:VCALENDAR
