BEGIN:VCALENDAR
VERSION:2.0
PRODID:-//ChamberMaster//Event Calendar 2.0//EN
METHOD:PUBLISH
X-PUBLISHED-TTL:P3D
REFRESH-INTERVAL:P3D
CALSCALE:GREGORIAN
BEGIN:VEVENT
DTSTART:20210427T140000Z
DTEND:20210427T150000Z
X-MICROSOFT-CDO-ALLDAYEVENT:FALSE
SUMMARY:Using LinkedIn for Professional Network
DESCRIPTION:Are you fully taking advantage of your professional LinkedIn network? Now that you've developed a professional profile\, it's time to use it\, and leverage your connections!\n\nIn this webinar you will gain an understanding of the full breadth of benefits associated with utilizing LinkedIn\, including leveraging your professional network and creating content. Participants will be introduced to simple strategies to engage with their network!\n\n \n\nLearning Objectives:\n\nBy the end of the session participants will\n\n- develop a deeper understanding of the benefits of LinkedIn.\n\n- implement strategies to grow their professional network.\n\n- execute a plan to proactively engage with their network.
X-ALT-DESC;FMTTYPE=text/html:Are you fully taking advantage of your professional&nbsp\;LinkedIn&nbsp\;network? Now that you&#39\;ve developed a professional profile\, it&#39\;s time to use it\, and leverage your connections!<br />\nIn this webinar you will gain an understanding of the full breadth of benefits associated with utilizing&nbsp\;LinkedIn\, including leveraging your professional network and creating content. Participants will be introduced to simple strategies to engage with their network!<br />\n&nbsp\;<br />\n<strong>Learning Objectives:</strong><br />\nBy the end of the session participants will<br />\n- develop a deeper understanding of the benefits of&nbsp\;LinkedIn.<br />\n- implement strategies to grow their professional network.<br />\n- execute a plan to proactively engage with their network.
LOCATION:Zoom - invite forwarded after registration
UID:e.3151.141
SEQUENCE:3
DTSTAMP:20260420T034814Z
URL:https://members.perthchamber.com/events/details/using-linkedin-for-professional-network-141
END:VEVENT

END:VCALENDAR
