BEGIN:VCALENDAR
VERSION:2.0
PRODID:-//ChamberMaster//Event Calendar 2.0//EN
METHOD:PUBLISH
X-PUBLISHED-TTL:P3D
REFRESH-INTERVAL:P3D
CALSCALE:GREGORIAN
BEGIN:VEVENT
DTSTART:20210309T130000Z
DTEND:20210309T140000Z
X-MICROSOFT-CDO-ALLDAYEVENT:FALSE
SUMMARY:Virtual Coffee Chat - Grants for Small Businesses
DESCRIPTION:Join the CP Chamber and Perth Chamber for this casual coffee chat as we discuss the grants that are available for Small Businesses.
X-ALT-DESC;FMTTYPE=text/html:<span style="color: rgb(102\, 102\, 102)\; font-family: &quot\;Open Sans&quot\;\, Arial\, sans-serif\; font-size: 16px\;">Join the CP Chamber and Perth Chamber for this casual coffee chat as we discuss the grants that are available for Small Businesses.</span>
LOCATION:Virtual-zoom Register here https://us02web.zoom.us/meeting/register/tZMtcu6trDsuE9RTyPMgHj
UID:e.3151.140
SEQUENCE:3
DTSTAMP:20260425T144642Z
URL:https://members.perthchamber.com/events/details/virtual-coffee-chat-grants-for-small-businesses-140
END:VEVENT

END:VCALENDAR
